BEGIN:VCALENDAR
VERSION:2.0
PRODID:-//TownPress//TP Event Tools v1.0.7//DE
BEGIN:VEVENT
UID:1587@www.gemeinde-heinsen.de
DTSTAMP:20260421T084400Z
DTSTART:20260514T090000Z
DTEND:20260514T110000Z
SUMMARY:Einladung zum Gottesdienst zu Himmelfahrt
DESCRIPTION:Wir laden herzlich am Donnerstag\, den 11. Mai 2026\, zu einem Freiluftgottesdienst unter der Eiche mit Pastorin Kattner ein.\n\n\n\nGottesdienst mit Posaunenchorbegleitung und anschließendem Imbiss. \n\n\n\nBild- und Textquelle: Kirchenvorstand Heinsen
URL:https://www.gemeinde-heinsen.de/?p=1587
END:VEVENT
END:VCALENDAR