BEGIN:VCALENDAR
VERSION:2.0
PRODID:-//TownPress//TP Event Tools v1.0.7//DE
BEGIN:VEVENT
UID:1600@www.gemeinde-heinsen.de
DTSTAMP:20260421T085043Z
DTSTART:20260406T090000Z
DTEND:20260406T110000Z
SUMMARY:Einladung zum Gottesdienst am Ostermontag
DESCRIPTION:Einladung zum Familiengottesdienst am Ostermontag\, den 06.04.2026\, um 11:00 Uhr!\n\n\n\nEs erwartet uns ein bunter und fröhlicher Gottesdienst für die ganze Familie mit Pastorin Kattner. Gemeinsam feiern wir die Osterfreude – in diesem besonderen Gottesdienst dürfen wir auch Taufen erleben und Gottes Segen für neues Leben feiern.\n\n\n\nIm Anschluss an den Gottesdienst laden wir herzlich ein:\n\n\n\n🥚 Ostereiersuche rund um die Kirche für alle Kinder☕ Kaffee und Tee für die „Großen“ und Zeit für Begegnung und Gespräche\n\n\n\nBild- und Textquelle: Kirchenvorstand Heinsen
URL:https://www.gemeinde-heinsen.de/?p=1600
END:VEVENT
END:VCALENDAR