BEGIN:VCALENDAR
VERSION:2.0
PRODID:-//TownPress//TP Event Tools v1.0.7//DE
BEGIN:VEVENT
UID:1713@www.gemeinde-heinsen.de
DTSTAMP:20260423T114230Z
DTSTART:20260430T170000Z
DTEND:20260430T080000Z
SUMMARY:Weser-Alm: Tanz in den Mai mit DJ Martin
DESCRIPTION:Traditionell lädt die Weser-Alm zum Tanz in den Mai am 30. April ein. Ab 19:00 Uhr wechselt der Tages-Gastrobetrieb in den Partymodus und um 20:00 Uhr das Speiseangebot\, sodass es weiter Leckeres vom Grill gibt. DJ Martin von nice record wird Euch den ganzen Abend bis 01:00 Uhr mit Party- und Tanzmusik einheizen\, sodass Ihr dann am nächsten Morgen um 09:00 Uhr beim Familienwandertag des Tuspos in Heinsen Eure Stimmbänder nachölen und die Lungen mit frischer Atemluft durchfluten könnt.\n\n\n\nZu spät\, zu früh? Ausreden gibt es nicht\, denn am 02. Mai ist frei und Ihr habt das ganze Wochenende noch vor Euch.\n\n\n\nBild- und Textquelle: Carsten Wagener und und KI-generierte Inhalte
URL:https://www.gemeinde-heinsen.de/?p=1713
END:VEVENT
END:VCALENDAR