BEGIN:VCALENDAR
VERSION:2.0
PRODID:-//TownPress//TP Event Tools v1.0.7//DE
BEGIN:VEVENT
UID:1716@www.gemeinde-heinsen.de
DTSTAMP:20260423T115228Z
DTSTART:20260501T070000Z
DTEND:20260422T080000Z
SUMMARY:Familienwandertag am 1. Mai
DESCRIPTION:Am 1. Mai ist es wieder soweit: Der Tuspo lädt zum traditionellen Familienwandertag ein. Start ist um 9:00 Uhr an der Grundlosen. Unter der Leitung von Wanderwart Walter Räker führt er die Wandergruppe über den schönen Heinser Berg.\n\n\n\nIm Anschluss wird zum gemütlichen Beisammensein am Sportheim eingeladen. Für das leibliche Wohl ist bestens gesorgt: Es erwarten Euch Kaltgetränke\, Pommes und Leckeres vom Grill. Am Nachmittag gibt es außerdem Kaffee\, Kuchen und einen Eiswagen.\n\n\n\nAuch für die kleinen Gäste ist gesorgt – eine Hüpfburg steht bereit. Darüber hinaus wird gemeinsam mit der Dorfgemeinschaft am Nachmittag der Maibaum aufgestellt.\n\n\n\nDer Sportverein Tuspo freut sich über viele Teilnehmer:innen.\n\n\n\nBild- und Textquelle: Tuspo Heinsen von 1919 e.V.
URL:https://www.gemeinde-heinsen.de/?p=1716
END:VEVENT
END:VCALENDAR